BEGIN:VCALENDAR
VERSION:2.0
PRODID:-//eventon.com NONSGML v1.0//EN
CALSCALE:GREGORIAN
METHOD:PUBLISH
BEGIN:VEVENT
UID:69eb06fd48960
DTSTAMP:20260424T060029Z
DTSTART:20250307T180000Z
DTEND:20250307T200000Z
LOCATION:Die Aasvoël Klub Plot 35\,  9de Laan
SUMMARY:Aasvoël Klub - Bloemfontein
DESCRIPTION:Die legendariese Valiant Swart is weer na jare by die Aasvoel k
 lub Bloemfontein. R150pp. Besprekings whats up of bel 0845598991\nhttps://w
 ww.valiant.co.za/live-performances/aasvoel-klub-bloemfontein/
URL:https://www.valiant.co.za/live-performances/aasvoel-klub-bloemfontein/
END:VEVENT
END:VCALENDAR