BEGIN:VCALENDAR
VERSION:2.0
PRODID:-//eventon.com NONSGML v1.0//EN
CALSCALE:GREGORIAN
METHOD:PUBLISH
BEGIN:VEVENT
UID:69e7440495e7d
DTSTAMP:20260421T093148Z
DTSTART:20251114T153000Z
DTEND:20251114T193000Z
LOCATION:Die Bôrdienghuis Teater 14 Burger Street
SUMMARY:Bordienghuis Wellington met Illimar Neitz
DESCRIPTION:\nhttps://www.valiant.co.za/live-performances/bordienghuis-well
 ington-met-illimar-neitz/
URL:https://www.valiant.co.za/live-performances/bordienghuis-wellington-met-illimar-neitz/
END:VEVENT
END:VCALENDAR